Workbook
Name dd: #REF!
Name dd: #REF!
Name dd: #REF!
Name dd: #REF!
Name dd: #REF!
Name dd: #REF!
Name dd: #REF!
Name dd: #REF!
Name dd: #REF!
Name dd: #REF!
Name dd: #REF!
Name FiscalYearStartDate: #REF!
Name FiscalYearStartDate: #REF!
Name FiscalYearStartDate: #REF!
Name FiscalYearStartDate: #REF!
Name FiscalYearStartDate: #REF!
Name FiscalYearStartDate: #REF!
Name FiscalYearStartDate: #REF!
Name FiscalYearStartDate: #REF!
Name FiscalYearStartDate: #REF!
Name FiscalYearStartDate: #REF!
Name FiscalYearStartDate: #REF!
Name Sales3: #REF!
Name Sales3: #REF!
Name Sales3: #REF!
Name Sales3: #REF!
Name Sales3: #REF!
Name Sales3: #REF!
Name Sales3: #REF!
Name Sales3: #REF!
Name Sales3: #REF!
Name Sales3: #REF!
Name Sales3: #REF!
Name z: #REF!
Name z: #REF!
Name z: #REF!
Name z: #REF!

Sheet xr

Sheet Global Assumptions 
A1: Global Assumptions
E2: 430000 | F2: =#REF! -> #REF! | G2: 247940000 | H2: 504130000 | I2: 1077847500
C3: 2016 | D3: Seed (2017) | E3: 2018 | F3: 2019 | G3: 2020 | H3: 2021 | I3: 2022
A4: Venture Funding | C4: 250000 | D4: 0 | E4: 0 | F4: 0 | G4: 0 | H4: 0 | I4: 0
A6: Sales Revenue | C6: =#REF! -> #REF! | D6: =#REF! -> #REF! | E6: =E2 -> 430000 | F6: =F2 -> #REF! | G6: 247940000 | H6: 504130000 | I6: 1077847500 | K6: NA | L6: 6558548 | M6: 18126964 | N6: 33094770 | O6: 52203282 | P6: 91995745
F7: =(F6-E6)/E6 -> #REF! | G7: =(G6-F6)/F6 -> #REF! | H7: =(H6-G6)/G6 -> 1.0332742 | I7: =(I6-H6)/H6 -> 1.1380348 | K7: NA | L7: 1341775 | M7: 3671300 | N7: 6686850 | O7: 10535318 | P7: 18534892
K8: NA | L8: 5216773 | M8: 14455664 | N8: 26407920 | O8: 41667964 | P8: 73460852
A9: Other Revenue Adjustment: New Customer Discounts | C9: 0 | F9: -1000000 | G9: -3000000 | H9: =-9500000/2 -> -4750000 | I9: -8000000 | K9: 300000 | L9: 3506590 | M9: 5473780 | N9: 7698855 | O9: 13275335 | P9: 19759492
K10: -300000 | L10: 1726459 | M10: 9008434 | N10: 18743646 | O10: 28457554 | P10: 53796514
A11: Sales and Pricing Assumptions
A12: Total Number of Clients | E12: =#REF! -> #REF! | F12: =#REF! -> #REF! | G12: =#REF! -> #REF! | H12: =#REF! -> #REF! | I12: =#REF! -> #REF!
A13: FY01 June Clients | C13: 0 | D13: 2 | E13: =E6/E12 -> #REF! | F13: =F6/F12 -> #REF! | G13: =G6/G12 -> #REF! | H13: =H6/H12 -> #REF! | I13: =I6/I12 -> #REF!
A14: Total Client Growth/Month | E14: 0.34467482 | F14: 0.10811966 | G14: 0.0050605608 | H14: 0.064355676 | I14: 0.036838879
A15: Client Attrition / Year (used in COGS Calc) | D15: 0 | E15: 0.33 | F15: 0.33 | G15: 0.33 | H15: 0.33 | I15: 0.33
A17: Mix Assumptions
A18: Unlimited License | D18: 0.7 | E18: 0.7 | F18: 0.7 | G18: 0.7 | H18: 0.7 | I18: 0.7
A19: CPC / CPE / CPR Total | D19: =20% -> 0.2 | E19: =20% -> 0.2 | F19: =20% -> 0.2 | G19: =20% -> 0.2 | H19: =20% -> 0.2 | I19: =20% -> 0.2
A20: CPC | B20: % of Total | D20: 0.45 | E20: 0.45 | F20: 0.45 | G20: 0.45 | H20: 0.45 | I20: 0.45
A21: CPE | D21: 0.45 | E21: 0.45 | F21: 0.45 | G21: 0.45 | H21: 0.45 | I21: 0.45
A22: Cost Per Redemption | B22: % of Total | D22: =1-D20-D21 -> 0.1 | E22: =1-E20-E21 -> 0.1 | F22: =1-F20-F21 -> 0.1 | G22: =1-G20-G21 -> 0.1 | H22: =1-H20-H21 -> 0.1 | I22: =1-I20-I21 -> 0.1
A23: Limited License (Events) | D23: =1-D18-D19 -> 0.1 | E23: 0.1 | F23: 0.1 | G23: 0.1 | H23: 0.1 | I23: 0.1
A25: % needing consulting services | B25: ` | D25: 0.65 | E25: 0.65 | F25: 0.65 | G25: 0.65 | H25: 0.65 | I25: 0.65
A26: % need for consulting (Unlimited License) | D26: 0.25 | E26: 0.25 | F26: 0.25 | G26: 0.25 | H26: 0.25 | I26: 0.25
A27: % need for consulting (CPC) | D27: 0.25 | E27: 0.25 | F27: 0.25 | G27: 0.25 | H27: 0.25 | I27: 0.25
A28: % needed for consulting (Limited License) | D28: 0.5 | E28: 0.5 | F28: 0.5 | G28: 0.5 | H28: 0.5 | I28: 0.5
A29: Avg Service Hours | D29: 40 | E29: 40 | F29: 40 | G29: 40 | H29: 40 | I29: 40
A32: Avg Monthly Notifications | B32: Conversions | D32: 1000000 | E32: 1000000 | F32: 1000000 | G32: 1000000 | H32: 1000000 | I32: 1000000
A33: Avg Monthly Views | B33: 0.25 | D33: =$B$33*D32 -> 250000 | E33: =$B$33*E32 -> 250000 | F33: =$B$33*F32 -> 250000 | G33: =$B$33*G32 -> 250000 | H33: =$B$33*H32 -> 250000 | I33: =$B$33*I32 -> 250000
A34: Avg Monthly Conversions | B34: 0.2 | D34: =$B$34*D33 -> 50000 | E34: =$B$34*E33 -> 50000 | F34: =$B$34*F33 -> 50000 | G34: =$B$34*G33 -> 50000 | H34: =$B$34*H33 -> 50000 | I34: =$B$34*I33 -> 50000
A35: Conversion rate | D35: =D34/D32 -> 0.05 | E35: =E34/E32 -> 0.05 | F35: =F34/F32 -> 0.05 | G35: =G34/G32 -> 0.05 | H35: =H34/H32 -> 0.05 | I35: =I34/I32 -> 0.05
A38: Unlimited License Fee per Month | D38: =D39*$B$55*$B$52 -> 100000 | E38: =E39*$B$55*$B$52 -> 100000 | F38: =F39*$B$55*$B$52 -> 100000 | G38: =G39*$B$55*$B$52 -> 100000 | H38: =H39*$B$55*$B$52 -> 100000 | I38: =I39*$B$55*$B$52 -> 100000
A39: Monthly Markup per User | D39: 5 | E39: 5 | F39: 5 | G39: 5 | H39: 5 | I39: 5
A40: Cost per Click (active view) | D40: 0.3 | E40: 0.3 | F40: 0.3 | G40: 0.3 | H40: 0.3 | I40: 0.3
A41: Cost per Click Engagement | D41: 1.75 | E41: 1.75 | F41: 1.75 | G41: 1.75 | H41: 1.75 | I41: 1.75
A42: Avg Revenue per Conversion | D42: 5 | E42: 5 | F42: 5 | G42: 5 | H42: 5 | I42: 5
A43: Limited License (Events) | D43: =D38 -> 100000 | E43: =E38 -> 100000 | F43: =F38 -> 100000 | G43: =G38 -> 100000 | H43: =H38 -> 100000 | I43: =I38 -> 100000
A44: Consulting Hourly Rate | D44: 250 | E44: 250 | F44: 250 | G44: 250 | H44: 250 | I44: 250
A47: COGS | D47: =#REF! -> #REF! | E47: =#REF! -> #REF! | F47: =#REF! -> #REF! | G47: =#REF! -> #REF! | H47: =#REF! -> #REF! | I47: =#REF! -> #REF!
A48: GM% | E48: =1-(E47/E6) -> #REF! | F48: =1-(F47/F6) -> #REF! | G48: =1-(G47/G6) -> #REF! | H48: =1-(H47/H6) -> #REF! | I48: =1-(I47/I6) -> #REF!
A49: Other COGS Adjustment: scale efficiencies | C49: 0 | G49: 50000000 | H49: 100000000 | I49: =-1000000+200000000 -> 199000000
...

Sheet Capital Use (15M)
A1: Capital Use
A3: 15000000 | B3: =#REF! -> #REF! | C3: =#REF! -> #REF! | D3: FY2019 | E3: =#REF! -> #REF! | F3: =#REF! -> #REF! | G3: =#REF! -> #REF!
A5: Operating Expenditures
A6: Travel Expense
A7: Professional Services | D7: 1500000
A8: Server
A9: MS Office License
A10: Copier Lease
A11: Telecommunications | C11: =SUM(#REF!) -> #REF!
A12: Total | B12: 0 | C12: =SUM(C6:C11) -> #REF! | D12: =SUM(D5:D11) -> 1500000 | E12: =SUM(E5:E11) -> 0 | F12: 0 | G12: 0
A13: Employee Compensation
A14: Employee Salaries/Benefits* | D14: =3500000+250000-750000 -> 3000000 | E14: 3000000
A15: Employee Benefits
A16: Total | B16: 0 | C16: =SUM(C14:C15) -> 0 | D16: =SUM(D14:D15) -> 3000000 | E16: =SUM(E14:E15) -> 3000000 | F16: 0 | G16: 0
A17: Product Development
A18: Technology | D18: =1000000-750000 -> 250000 | E18: 500000
A19: Digital Media Agency | C19: =#REF! -> #REF! | D19: =#REF! -> #REF! | E19: =#REF! -> #REF! | F19: =#REF! -> #REF!
A20: Other | C20: =#REF! -> #REF! | D20: =#REF! -> #REF! | E20: =#REF! -> #REF! | F20: =#REF! -> #REF!
A21: Total | B21: 0 | C21: =SUM(C18:C20) -> #REF! | D21: =SUM(D18:D20) -> #REF! | E21: =SUM(E18:E20) -> #REF! | F21: 0 | G21: 0
A22: Office Space
A23: Rent | D23: 241000 | E23: 440000
A24: Utilities | D24: 10500
A25: Insurance | D25: 7000
A26: Office Supplies | D26: 3500
A27: Furniture | D27: =#REF! -> #REF! | E27: =#REF! -> #REF! | F27: =#REF! -> #REF!
A28: Total | B28: 0 | C28: =SUM(C23:C27) -> 0 | D28: =SUM(D23:D27) -> #REF! | E28: =SUM(E23:E27) -> #REF! | F28: 0 | G28: 0
A29: Marketing and Sales Support
A30: SEO | C30: =#REF! -> #REF! | D30: =#REF! -> #REF! | E30: =#REF! -> #REF! | F30: =#REF! -> #REF! | G30: =#REF! -> #REF!
A31: Media | D31: 500000 | E31: 500000 | F31: =#REF! -> #REF! | G31: =#REF! -> #REF!
A32: Social Networking | D32: 400000 | E32: 300000 | F32: =#REF! -> #REF! | G32: =#REF! -> #REF!
A33: Sales Support (Channel Partners, additional Salaries, T&E) | D33: 1500000 | E33: =3000000+-200000 -> 2800000 | F33: =#REF! -> #REF! | G33: =#REF! -> #REF!
A34: Total | B34: 0 | C34: =SUM(C30:C33) -> #REF! | D34: =SUM(D30:D33) -> #REF! | E34: =SUM(E30:E33) -> #REF! | F34: 0 | G34: 0
A36: Total Use of Capital | C36: =SUM(C12,C16,C21,C28,C34) -> #REF! | D36: =SUM(D12,D16,D21,D28,D34) -> #REF! | E36: =SUM(E12,E16,E21,E28,E34) -> #REF! | F36: =SUM(F12,F16,F21,F28,F34) -> 0 | I36: =D36+E36 -> #REF!
A38: *Employee Salaries includes salary compensation + costs associated with employee taxes, also, in yr 2 employee salaries will be paid through operating income
A39: *Capital Use is subject to change depending on business conditions and can flex according to growth demands
A40: *Professional Services include fees for capital raise

Sheet Capital Use (15M inv)
A1: Capital Use
A3: 15000000 | B3: Seed (2017) | C3: FY01 (2018) | D3: FY02 | E3: FY03 | F3: FY04 | G3: FY05
A5: Operating Expenditures
A6: Travel Expense | D6: 200000 | E6: 300000 | F6: 325000
A7: Professional Services
A8: Server
A9: MS Office License
A10: Copier Lease
A11: Telecommunications | C11: =SUM(#REF!) -> #REF! | D11: =SUM(#REF!) -> #REF! | E11: =SUM(#REF!) -> #REF! | F11: =SUM(#REF!) -> #REF!
A12: Total | B12: 0 | C12: =SUM(C6:C11) -> #REF! | D12: =SUM(D5:D11) -> #REF! | E12: =SUM(E5:E11) -> #REF! | F12: =SUM(F5:F11) -> #REF! | G12: 0
A13: Employee Compensation
A14: Employee Salaries* | D14: 3000000 | E14: 5000000 | F14: 2000000
A15: Employee Benefits
A16: Total | B16: 0 | C16: =SUM(C14:C15) -> 0 | D16: =SUM(D14:D15) -> 3000000 | E16: =SUM(E14:E15) -> 5000000 | F16: =SUM(F14:F15) -> 2000000 | G16: 0
A17: Product Development
A18: Technology | D18: 1000000 | E18: =D18 -> 1000000 | F18: =E18+250000 -> 1250000
A19: Digital Media Agency | C19: =#REF! -> #REF! | D19: =#REF! -> #REF! | E19: =#REF! -> #REF! | F19: =#REF! -> #REF!
A20: Other | C20: =#REF! -> #REF! | D20: =#REF! -> #REF! | E20: =#REF! -> #REF! | F20: =#REF! -> #REF!
A21: Total | B21: 0 | C21: =SUM(C18:C20) -> #REF! | D21: =SUM(D18:D20) -> #REF! | E21: =SUM(E18:E20) -> #REF! | F21: =SUM(F18:F20) -> #REF! | G21: 0
A22: Office Space
A23: Rent | D23: =33000-14080 -> 18920 | E23: 400000 | F23: 400000
A24: Utilities | D24: =#REF! -> #REF! | E24: =D24 -> #REF! | F24: =E24-5160 -> #REF!
A25: Insurance | D25: =#REF! -> #REF! | E25: =D25 -> #REF! | F25: =E25 -> #REF!
A26: Office Supplies | D26: =#REF! -> #REF! | E26: =D26 -> #REF! | F26: =E26 -> #REF!
A27: Furniture | C27: =#REF! -> #REF! | D27: =#REF! -> #REF! | E27: =#REF! -> #REF! | F27: =#REF! -> #REF!
A28: Total | B28: 0 | C28: =SUM(C23:C27) -> #REF! | D28: =SUM(D23:D27) -> #REF! | E28: =SUM(E23:E27) -> #REF! | F28: =SUM(F23:F27) -> #REF! | G28: 0
A29: Marketing
A30: SEO | C30: =#REF! -> #REF! | D30: =#REF! -> #REF! | E30: =#REF! -> #REF! | F30: =#REF! -> #REF! | G30: =#REF! -> #REF!
A31: Search Engine PPC | C31: =#REF! -> #REF! | D31: =#REF! -> #REF! | E31: =#REF! -> #REF! | F31: =#REF! -> #REF! | G31: =#REF! -> #REF!
A32: Social Networking | C32: =#REF! -> #REF! | D32: =#REF! -> #REF! | E32: =#REF! -> #REF! | F32: =#REF! -> #REF! | G32: =#REF! -> #REF!
A33: Traditional Media | C33: =#REF! -> #REF! | D33: =#REF! -> #REF! | E33: =#REF! -> #REF! | F33: =#REF! -> #REF! | G33: =#REF! -> #REF!
A34: Total | B34: 0 | C34: =SUM(C30:C33) -> #REF! | D34: =SUM(D30:D33) -> #REF! | E34: =SUM(E30:E33) -> #REF! | F34: =SUM(F30:F33) -> #REF! | G34: 0
A36: Total Use of Capital | D36: =SUM(D12,D16,D21,D28,D34) -> #REF! | E36: =SUM(E12,E16,E21,E28,E34) -> #REF! | F36: =SUM(F12,F16,F21,F28,F34) -> #REF! | I36: =15000000-F36-E36-D36 -> #REF!
A38: *Employee Salaries includes salary compensation + costs associated with employee taxes, also, in yr 2 employee salaries will be paid through operating income
A39: *Capital Use is subject to change depending on business conditions and can flex according to growth demands

Sheet Test Instructions
C4: Excel and Financial | G4: administered in-person or if person is remote via email
C5: Test Questions:
C7: 1. Create a new tab detailing variances between actuals and budget
C8: 2. Notate major variances and explanations between actuals and budget and note possible explanations
C9: 3. Estimate company valuation in 2022
C10: 4. Outside resources can be used
C11: 5. Explanations must be detailed enough for basic management reporting

Sheet Income Statement Bud
B2: Income Statement Budget
D3: Month 1 | E3: Month 2 | F3: Month 3 | G3: Month 4 | H3: Month 5 | I3: Month 6 | J3: Month 7 | K3: Month 8 | L3: Month 9 | M3: Month 10 | N3: Month 11 | O3: Month 12 | P3: 2016 | Q3: Month 1 | R3: Month 2 | S3: Month 3 | T3: Month 4 | U3: Month 5 | V3: Month 6 | W3: Month 7 | X3: Month 8 | Y3: Month 9 | Z3: Month 10 | AA3: Month 11 | AB3: Month 12 | AC3: 2017 | AD3: Month 1 | AE3: Month 2 | AF3: Month 3 | AG3: Month 4 | AH3: Month 5 | AI3: Month 6 | AJ3: Month 7 | AK3: Month 8 | AL3: Month 9 | AM3: Month 10 | AN3: Month 11 | AO3: Month 12 | AP3: 2018 | AQ3: Month 1 | AR3: Month 2 | AS3: Month 3 | AT3: Month 4 | AU3: Month 5 | AV3: Month 6 | AW3: Month 7 | AX3: Month 8 | AY3: Month 9 | AZ3: Month 10 | BA3: Month 11 | BB3: Month 12 | BC3: 2019 | BD3: Month 1 | BE3: Month 2 | BF3: Month 3 | BG3: Month 4 | BH3: Month 5 | BI3: Month 6 | BJ3: Month 7 | BK3: Month 8 | BL3: Month 9 | BM3: Month 10 | BN3: Month 11 | BO3: Month 12 | BP3: 2020 | BQ3: Month 1 | BR3: Month 2 | BS3: Month 3 | BT3: Month 4 | BU3: Month 5 | BV3: Month 6 | BW3: Month 7 | BX3: Month 8 | BY3: Month 9 | BZ3: Month 10 | CA3: Month 11 | CB3: Month 12 | CC3: 2021 | CD3: Month 1 | CE3: Month 2 | CF3: Month 3 | CG3: Month 4 | CH3: Month 5 | CI3: Month 6 | CJ3: Month 7 | CK3: Month 8 | CL3: Month 9 | CM3: Month 10 | CN3: Month 11 | CO3: Month 12 | CP3: 2022
B5: Sales Revenue
B6: Unlimited & Limited Licenses | D6: 0 | E6: 0 | F6: 0 | G6: 0 | H6: 0 | I6: 0 | J6: 0 | K6: 0 | L6: 0 | M6: 0 | N6: 0 | O6: 0 | P6: 0 | Q6: 0 | R6: 0 | S6: 0 | T6: 0 | U6: 0 | V6: 0 | W6: 0 | X6: 0 | Y6: 0 | Z6: 0 | AA6: 0 | AB6: 0 | AC6: 0 | AD6: 0 | AE6: 0 | AF6: 0 | AG6: 0 | AH6: 0 | AI6: 0 | AJ6: 0 | AK6: 0 | AL6: 0 | AM6: 0 | AN6: 0 | AO6: 0 | AP6: 0 | AQ6: 0 | AR6: 0 | AS6: 0 | AT6: 0 | AU6: 0 | AV6: 0 | AW6: 0 | AX6: -23866.477 | AY6: 0 | AZ6: 519838.04 | BA6: 946669.78 | BB6: 1761023.6 | BC6: 3203664.9 | BD6: 497468.36 | BE6: 499985.83 | BF6: 502516.03 | BG6: 505059.05 | BH6: 507614.93 | BI6: 510183.75 | BJ6: 11564766 | BK6: 5320113.4 | BL6: 517968.46 | BM6: 20420590 | BN6: 523224.14 | BO6: 525871.95 | BP6: 41895361 | BQ6: 559714.79 | BR6: 595735.62 | BS6: 634074.59 | BT6: 674880.89 | BU6: 718313.3 | BV6: 33768541 | BW6: 40813743 | BX6: 866112.39 | BY6: 5921851.6 | BZ6: 20981178 | CA6: 1044322.4 | CB6: 8858448.5 | CC6: 1.1543692e+08 | CD6: 1152478 | CE6: 1194934 | CF6: 9238954 | CG6: 1284595.7 | CH6: 1331918.8 | CI6: 81761204 | CJ6: 1431859.1 | CK6: 1484607.2 | CL6: 1.392313e+08 | CM6: 69204004 | CN6: 1654799.5 | CO6: 13775760 | CP6: 3.2274641e+08
B7: PPE (Price per Engagement) | D7: 0 | E7: 0 | F7: 0 | G7: 0 | H7: 0 | I7: 0 | J7: 0 | K7: 0 | L7: 0 | M7: 0 | N7: 0 | O7: 0 | P7: 0 | Q7: 0 | R7: 0 | S7: 0 | T7: 0 | U7: 0 | V7: 0 | W7: 0 | X7: 0 | Y7: 0 | Z7: 0 | AA7: 0 | AB7: 0 | AC7: 0 | AD7: 0 | AE7: 0 | AF7: 0 | AG7: 0 | AH7: 0 | AI7: 0 | AJ7: 0 | AK7: 0 | AL7: 0 | AM7: 0 | AN7: 0 | AO7: 0 | AP7: 0 | AQ7: 0 | AR7: 0 | AS7: 0 | AT7: 0 | AU7: 0 | AV7: 0 | AW7: 0 | AX7: 60011.224 | AY7: 0 | AZ7: 73689.532 | BA7: 81656.819 | BB7: 90485.526 | BC7: 305843.1 | BD7: 90943.434 | BE7: 91403.659 | BF7: 91866.213 | BG7: 92331.107 | BH7: 92798.354 | BI7: 93267.966 | BJ7: 93739.954 | BK7: 94214.331 | BL7: 94691.108 | BM7: 95170.298 | BN7: 95651.914 | BO7: 96135.966 | BP7: 1122214.3 | BQ7: 102322.86 | BR7: 108907.92 | BS7: 115916.76 | BT7: 123376.66 | BU7: 131316.65 | BV7: 139767.62 | BW7: 148762.46 | BX7: 158336.17 | BY7: 168526 | BZ7: 179371.61 | CA7: 190915.19 | CB7: 203201.66 | CC7: 1770721.6 | CD7: 210687.39 | CE7: 218448.87 | CF7: 226496.28 | CG7: 234840.15 | CH7: 243491.4 | CI7: 252461.35 | CJ7: 261761.74 | CK7: 271404.75 | CL7: 281403 | CM7: 291769.57 | CN7: 302518.04 | CO7: 313662.46 | CP7: 3108945
B8: Professional Services | D8: 0 | E8: 0 | F8: 0 | G8: 0 | H8: 0 | I8: 0 | J8: 0 | K8: 0 | L8: 0 | M8: 0 | N8: 0 | O8: 0 | P8: 0 | Q8: 0 | R8: 0 | S8: 0 | T8: 0 | U8: 0 | V8: 0 | W8: 0 | X8: 0 | Y8: 0 | Z8: 0 | AA8: 0 | AB8: 0 | AC8: 0 | AD8: 0 | AE8: 0 | AF8: 0 | AG8: 0 | AH8: 0 | AI8: 28750 | AJ8: 28750 | AK8: 28750 | AL8: 28750 | AM8: 28750 | AN8: 53750 | AO8: 36550 | AP8: 234050 | AQ8: 0 | AR8: 0 | AS8: 0 | AT8: 0 | AU8: 0 | AV8: 0 | AW8: 0 | AX8: 276671.65 | AY8: 0 | AZ8: 32750.903 | BA8: 36291.92 | BB8: 40215.79 | BC8: 385930.27 | BD8: 40419.304 | BE8: 40623.848 | BF8: 40829.428 | BG8: 41036.048 | BH8: 41243.713 | BI8: 41452.429 | BJ8: 41662.202 | BK8: 41873.036 | BL8: 42084.937 | BM8: 42297.91 | BN8: 42511.962 | BO8: 42727.096 | BP8: 498761.91 | BQ8: 45476.827 | BR8: 48403.519 | BS8: 51518.56 | BT8: 54834.072 | BU8: 58362.956 | BV8: 62118.943 | BW8: 66116.65 | BX8: 70371.632 | BY8: 74900.445 | BZ8: 79720.714 | CA8: 84851.195 | CB8: 90311.851 | CC8: 786987.36 | CD8: 93638.838 | CE8: 97088.388 | CF8: 100665.02 | CG8: 104373.4 | CH8: 108218.4 | CI8: 112205.05 | CJ8: 116338.55 | CK8: 120624.34 | CL8: 125068 | CM8: 129675.37 | CN8: 134452.46 | CO8: 139405.54 | CP8: 1381753.3
B9: Merchandising Affiliate | D9: 0 | E9: 0 | F9: 0 | G9: 0 | H9: 0 | I9: 0 | J9: 0 | K9: 0 | L9: 0 | M9: 0 | N9: 0 | O9: 0 | P9: 0 | Q9: 0 | R9: 0 | S9: 0 | T9: 0 | U9: 0 | V9: 0 | W9: 0 | X9: 0 | Y9: 0 | Z9: 0 | AA9: 0 | AB9: 0 | AC9: 0 | AD9: 0 | AE9: 0 | AF9: 0 | AG9: 0 | AH9: 0 | AI9: 0 | AJ9: 0 | AK9: 0 | AL9: 0 | AM9: 0 | AN9: 0 | AO9: 0 | AP9: 0 | AQ9: 0 | AR9: 0 | AS9: 0 | AT9: 0 | AU9: 0 | AV9: 0 | AW9: 0 | AX9: 20516.658 | AY9: 0 | AZ9: 25193.002 | BA9: 27916.861 | BB9: 30935.223 | BC9: 104561.74 | BD9: 31091.772 | BE9: 31249.114 | BF9: 31407.252 | BG9: 31566.19 | BH9: 31725.933 | BI9: 31886.484 | BJ9: 32047.848 | BK9: 32210.028 | BL9: 32373.028 | BM9: 32536.854 | BN9: 32701.509 | BO9: 32866.997 | BP9: 383663.01 | BQ9: 34982.175 | BR9: 37233.476 | BS9: 39629.662 | BT9: 42180.055 | BU9: 44894.581 | BV9: 47783.802 | BW9: 50858.961 | BX9: 54132.024 | BY9: 57615.727 | BZ9: 61323.626 | CA9: 65270.15 | CB9: 69470.654 | CC9: 605374.9 | CD9: 72029.875 | CE9: 74683.375 | CF9: 77434.627 | CG9: 80287.232 | CH9: 83244.924 | CI9: 86311.573 | CJ9: 89491.195 | CK9: 92787.95 | CL9: 96206.154 | CM9: 99750.281 | CN9: 103424.97 | CO9: 107235.03 | CP9: 1062887.2
B10: Other Revenue | D10: 0 | E10: 0 | F10: 0 | G10: 0 | H10: 0 | I10: 0 | J10: 0 | K10: 0 | L10: 0 | M10: 0 | N10: 0 | O10: 0 | P10: 0 | Q10: 0 | R10: 0 | S10: 0 | T10: 0 | U10: 0 | V10: 0 | W10: 0 | X10: 0 | Y10: 0 | Z10: 0 | AA10: 0 | AB10: 0 | AC10: 0 | AD10: 0 | AE10: 0 | AF10: 0 | AG10: 0 | AH10: 0 | AI10: 0 | AJ10: 0 | AK10: 0 | AL10: 0 | AM10: 0 | AN10: 0 | AO10: 0 | AP10: 0 | AQ10: 0 | AR10: 0 | AS10: 0 | AT10: 0 | AU10: 0 | AV10: 0 | AW10: 0 | AX10: -83333 | AY10: 0 | AZ10: -83333.333 | BA10: -83333.333 | BB10: -750000.33 | BC10: -1000000 | BD10: -250000 | BE10: -250000 | BF10: -250000 | BG10: -250000 | BH10: -250000 | BI10: -250000 | BJ10: -250000 | BK10: -250000 | BL10: -250000 | BM10: -250000 | BN10: -250000 | BO10: -250000 | BP10: -3000000 | BQ10: -395833.33 | BR10: -395833.33 | BS10: -395833.33 | BT10: -395833.33 | BU10: -395833.33 | BV10: -395833.33 | BW10: -395833.33 | BX10: -395833.33 | BY10: -395833.33 | BZ10: -395833.33 | CA10: -395833.33 | CB10: -395833.33 | CC10: -4750000 | CD10: -666666.67 | CE10: -666666.67 | CF10: -666666.67 | CG10: -666666.67 | CH10: -666666.67 | CI10: -666666.67 | CJ10: -666666.67 | CK10: -666666.67 | CL10: -666666.67 | CM10: -666666.67 | CN10: -666666.67 | CO10: -666666.67 | CP10: -8000000
B11: Total Sales Revenue | D11: 0 | E11: 0 | F11: 0 | G11: 0 | H11: 0 | I11: 0 | J11: 0 | K11: 0 | L11: 0 | M11: 0 | N11: 0 | O11: 0 | P11: 0 | Q11: 0 | R11: 0 | S11: 0 | T11: 0 | U11: 0 | V11: 0 | W11: 0 | X11: 0 | Y11: 0 | Z11: 0 | AA11: 0 | AB11: 0 | AC11: 0 | AD11: 0 | AE11: 0 | AF11: 0 | AG11: 0 | AH11: 0 | AI11: 28750 | AJ11: 28750 | AK11: 28750 | AL11: 28750 | AM11: 28750 | AN11: 53750 | AO11: 36550 | AP11: 234050 | AQ11: 0 | AR11: 0 | AS11: 0 | AT11: 0 | AU11: 0 | AV11: 0 | AW11: 0 | AX11: 250000.06 | AY11: 0 | AZ11: 568138.14 | BA11: 1009202 | BB11: 1172659.8 | BC11: 3000000 | BD11: 409922.87 | BE11: 413262.45 | BF11: 416618.93 | BG11: 419992.39 | BH11: 423382.93 | BI11: 426790.63 | BJ11: 11482216 | BK11: 5238410.8 | BL11: 437117.53 | BM11: 20340595 | BN11: 444089.53 | BO11: 447602.01 | BP11: 40900000 | BQ11: 346663.32 | BR11: 394447.2 | BS11: 445306.24 | BT11: 499438.34 | BU11: 557054.16 | BV11: 33622378 | BW11: 40683648 | BX11: 753118.88 | BY11: 5827060.5 | BZ11: 20905761 | CA11: 989525.6 | CB11: 8825599.3 | CC11: 1.1385e+08 | CD11: 862167.44 | CE11: 918487.97 | CF11: 8976883.3 | CG11: 1037429.8 | CH11: 1100206.8 | CI11: 81545515 | CJ11: 1232783.9 | CK11: 1302757.6 | CL11: 1.3906731e+08 | CM11: 69058533 | CN11: 1528528.3 | CO11: 13669397 | CP11: 3.203e+08
B13: Cost of Sales
B14: Geo-fencing Cost & Gross Sales Costs | D14: 0 | E14: 0 | F14: 0 | G14: 0 | H14: 0 | I14: 0 | J14: 0 | K14: 0 | L14: 0 | M14: 0 | N14: 0 | O14: 0 | P14: 0 | Q14: 0 | R14: 0 | S14: 0 | T14: 0 | U14: 0 | V14: 0 | W14: 0 | X14: 0 | Y14: 0 | Z14: 0 | AA14: 0 | AB14: 0 | AC14: 0 | AD14: 0 | AE14: 0 | AF14: 0 | AG14: 0 | AH14: 0 | AI14: 600 | AJ14: 600 | AK14: 600 | AL14: 900 | AM14: 900 | AN14: 900 | AO14: 1200 | AP14: 5700 | AQ14: 300 | AR14: 332.4359 | AS14: 368.37875 | AT14: 408.20774 | AU14: 452.34302 | AV14: 501.25019 | AW14: 52396.996 | AX14: 58062.141 | AY14: 64339.8 | AZ14: 71296.197 | BA14: 79004.717 | BB14: 87546.68 | BC14: 415009.15 | BD14: 87989.716 | BE14: 88434.993 | BF14: 88882.524 | BG14: 89332.319 | BH14: 89784.391 | BI14: 90238.75 | BJ14: 90695.409 | BK14: 91154.378 | BL14: 91615.671 | BM14: 92079.297 | BN14: 92545.27 | BO14: 93013.601 | BP14: 1085766.3 | BQ14: 98999.554 | BR14: 105370.74 | BS14: 112151.94 | BT14: 119369.56 | BU14: 127051.67 | BV14: 135228.16 | BW14: 143930.86 | BX14: 153193.63 | BY14: 163052.51 | BZ14: 173545.86 | CA14: 184714.52 | CB14: 196601.95 | CC14: 1713211 | CD14: 203844.55 | CE14: 211353.95 | CF14: 219139.99 | CG14: 227212.87 | CH14: 235583.13 | CI14: 244261.75 | CJ14: 253260.08 | CK14: 262589.9 | CL14: 272263.42 | CM14: 282293.3 | CN14: 292692.66 | CO14: 303475.13 | CP14: 3007970.7 | CQ14: 0.037946455
B15: Project Management and Development | D15: 0 | E15: 0 | F15: 0 | G15: 0 | H15: 0 | I15: 0 | J15: 0 | K15: 0 | L15: 0 | M15: 0 | N15: 0 | O15: 0 | P15: 0 | Q15: 0 | R15: 0 | S15: 0 | T15: 0 | U15: 0 | V15: 0 | W15: 0 | X15: 0 | Y15: 0 | Z15: 0 | AA15: 0 | AB15: 0 | AC15: 0 | AD15: 0 | AE15: 0 | AF15: 0 | AG15: 0 | AH15: 0 | AI15: 2920 | AJ15: 2920 | AK15: 2920 | AL15: 3880 | AM15: 3880 | AN15: 3880 | AO15: 4840 | AP15: 25240 | AQ15: 960 | AR15: 1063.7949 | AS15: 1178.812 | AT15: 1306.2648 | AU15: 1447.4977 | AV15: 1604.0006 | AW15: 1777.4246 | AX15: 1969.5991 | AY15: 2182.5515 | AZ15: 2418.5282 | BA15: 2680.0187 | BB15: 2969.7814 | BC15: 21558.273 | BD15: 2984.8101 | BE15: 2999.915 | BF15: 3015.0962 | BG15: 303030.35 | BH15: 203045.69 | BI15: 203061.1 | BJ15: 203076.59 | BK15: 203092.16 | BL15: 4403107.8 | BM15: 4003123.5 | BN15: 3139.3449 | BO15: 3155.2317 | BP15: 9536831.6 | BQ15: 3358.2888 | BR15: 3574.4137 | BS15: 3804.4475 | BT15: 204049.29 | BU15: 204309.88 | BV15: 504587.25 | BW15: 10504882 | BX15: 505196.67 | BY15: 505531.11 | BZ15: 12505887 | CA15: 2306265.9 | CB15: 356669.18 | CC15: 27608116 | CD15: 506914.87 | CE15: 607169.6 | CF15: 1607433.7 | CG15: 17707708 | CH15: 707991.51 | CI15: 10708286 | CJ15: 10708591 | CK15: 708907.64 | CL15: 10709236 | CM15: 10709576 | CN15: 10709929 | CO15: 10294.563 | CP15: 75402037 | CQ15: 0.95121936
B16: Ongoing Campaign Maintenance | D16: 0 | E16: 0 | F16: 0 | G16: 0 | H16: 0 | I16: 0 | J16: 0 | K16: 0 | L16: 0 | M16: 0 | N16: 0 | O16: 0 | P16: 0 | Q16: 0 | R16: 0 | S16: 0 | T16: 0 | U16: 0 | V16: 0 | W16: 0 | X16: 0 | Y16: 0 | Z16: 0 | AA16: 0 | AB16: 0 | AC16: 0 | AD16: 0 | AE16: 0 | AF16: 0 | AG16: 0 | AH16: 0 | AI16: 5760 | AJ16: 5760 | AK16: 5760 | AL16: 8640 | AM16: 8640 | AN16: 8640 | AO16: 71520 | AP16: 114720 | AQ16: 8080 | AR16: 8953.6068 | AS16: 9921.6677 | AT16: 10994.395 | AU16: 12183.105 | AV16: 13500.338 | AW16: 14959.99 | AX16: 16577.459 | AY16: 18369.809 | AZ16: 20355.946 | BA16: 22556.824 | BB16: 24995.66 | BC16: 181448.8 | BD16: 25122.152 | BE16: 25249.284 | BF16: 25377.06 | BG16: 25505.482 | BH16: 25634.554 | BI16: 25764.279 | BJ16: 25894.661 | BK16: 26025.702 | BL16: 26157.407 | BM16: 26289.778 | BN16: 26422.819 | BO16: 26556.533 | BP16: 309999.71 | BQ16: 28265.597 | BR16: 30084.649 | BS16: 32020.767 | BT16: 34081.485 | BU16: 36274.822 | BV16: 38609.312 | BW16: 41094.041 | BX16: 43738.676 | BY16: 46553.508 | BZ16: 49549.49 | CA16: 52738.281 | CB16: 56132.289 | CC16: 489142.92 | CD16: 58200.139 | CE16: 60344.167 | CF16: 62567.179 | CG16: 64872.083 | CH16: 67261.898 | CI16: 69739.751 | CJ16: 72308.885 | CK16: 74972.664 | CL16: 77734.573 | CM16: 80598.227 | CN16: 83567.375 | CO16: 86645.904 | CP16: 858812.85 | CQ16: 0.010834182
B17: Other COGS | D17: 0 | E17: 0 | F17: 0 | G17: 0 | H17: 0 | I17: 0 | J17: 0 | K17: 0 | L17: 0 | M17: 0 | N17: 0 | O17: 0 | P17: 0 | Q17: 0 | R17: 0 | S17: 0 | T17: 0 | U17: 0 | V17: 0 | W17: 0 | X17: 0 | Y17: 0 | Z17: 0 | AA17: 0 | AB17: 0 | AC17: 0 | AD17: 0 | AE17: 0 | AF17: 0 | AG17: 0 | AH17: 0 | AI17: 0 | AJ17: 0 | AK17: 0 | AL17: 0 | AM17: 0 | AN17: 0 | AO17: 0 | AP17: 0 | AQ17: 0 | AR17: 0 | AS17: 0 | AT17: 0 | AU17: 0 | AV17: 0 | AW17: 0 | AX17: 0 | AY17: 0 | AZ17: 0 | BA17: 0 | BB17: 0 | BC17: 0 | BD17: 0 | BE17: 0 | BF17: 0 | BG17: 0 | BH17: 0 | BI17: 0 | BJ17: 0 | BK17: 0 | BL17: 0 | BM17: 0 | BN17: 0 | BO17: 0 | BP17: 0 | BQ17: 0 | BR17: 0 | BS17: 0 | BT17: 0 | BU17: 0 | BV17: 0 | BW17: 0 | BX17: 0 | BY17: 0 | BZ17: 0 | CA17: 0 | CB17: 0 | CC17: 0 | CD17: 0 | CE17: 0 | CF17: 0 | CG17: 0 | CH17: 0 | CI17: 0 | CJ17: 0 | CK17: 0 | CL17: 0 | CM17: 0 | CN17: 0 | CO17: 0 | CP17: 0
B18: Total | D18: 0 | E18: 0 | F18: 0 | G18: 0 | H18: 0 | I18: 0 | J18: 0 | K18: 0 | L18: 0 | M18: 0 | N18: 0 | O18: 0 | P18: 0 | Q18: 0 | R18: 0 | S18: 0 | T18: 0 | U18: 0 | V18: 0 | W18: 0 | X18: 0 | Y18: 0 | Z18: 0 | AA18: 0 | AB18: 0 | AC18: 0 | AD18: 0 | AE18: 0 | AF18: 0 | AG18: 0 | AH18: 0 | AI18: 9280 | AJ18: 9280 | AK18: 9280 | AL18: 13420 | AM18: 13420 | AN18: 13420 | AO18: 77560 | AP18: 145660 | AQ18: 9340 | AR18: 10349.838 | AS18: 11468.858 | AT18: 12708.868 | AU18: 14082.946 | AV18: 15605.589 | AW18: 69134.411 | AX18: 76609.2 | AY18: 84892.16 | AZ18: 94070.671 | BA18: 104241.56 | BB18: 115512.12 | BC18: 618016.22 | BD18: 116096.68 | BE18: 116684.19 | BF18: 117274.68 | BG18: 417868.16 | BH18: 318464.63 | BI18: 319064.13 | BJ18: 319666.66 | BK18: 320272.24 | BL18: 4520880.9 | BM18: 4121492.6 | BN18: 122107.43 | BO18: 122725.37 | BP18: 10932598 | BQ18: 130623.44 | BR18: 139029.8 | BS18: 147977.16 | BT18: 357500.33 | BU18: 367636.37 | BV18: 678424.72 | BW18: 10689907 | BX18: 702128.98 | BY18: 715137.13 | BZ18: 12728982 | CA18: 2543718.7 | CB18: 609403.42 | CC18: 29810470 | CD18: 768959.55 | CE18: 878867.72 | CF18: 1889140.9 | CG18: 17999793 | CH18: 1010836.5 | CI18: 11022287 | CJ18: 11034160 | CK18: 1046470.2 | CL18: 11059234 | CM18: 11072468 | CN18: 11086189 | CO18: 400415.6 | CP18: 79268821
B20: Gross Profit | D20: 0 | E20: 0 | F20: 0 | G20: 0 | H20: 0 | I20: 0 | J20: 0 | K20: 0 | L20: 0 | M20: 0 | N20: 0 | O20: 0 | P20: 0 | Q20: 0 | R20: 0 | S20: 0 | T20: 0 | U20: 0 | V20: 0 | W20: 0 | X20: 0 | Y20: 0 | Z20: 0 | AA20: 0 | AB20: 0 | AC20: 0 | AD20: 0 | AE20: 0 | AF20: 0 | AG20: 0 | AH20: 0 | AI20: 19470 | AJ20: 19470 | AK20: 19470 | AL20: 15330 | AM20: 15330 | AN20: 40330 | AO20: -41010 | AP20: 88390 | AQ20: -9340 | AR20: -10349.838 | AS20: -11468.858 | AT20: -12708.868 | AU20: -14082.946 | AV20: -15605.589 | AW20: -69134.411 | AX20: 173390.86 | AY20: -84892.16 | AZ20: 474067.47 | BA20: 904960.49 | BB20: 1057147.6 | BC20: 2381983.8 | BD20: 293826.19 | BE20: 296578.26 | BF20: 299344.25 | BG20: 2124.2375 | BH20: 104918.3 | BI20: 107726.49 | BJ20: 11162549 | BK20: 4918138.6 | BL20: -4083763.4 | BM20: 16219102 | BN20: 321982.09 | BO20: 324876.64 | BP20: 29967403 | BQ20: 216039.88 | BR20: 255417.4 | BS20: 297329.08 | BT20: 141938.02 | BU20: 189417.79 | BV20: 32943953 | BW20: 29993741 | BX20: 50989.903 | BY20: 5111923.4 | BZ20: 8176778.2 | CA20: -1554193.1 | CB20: 8216195.9 | CC20: 84039530 | CD20: 93207.884 | CE20: 39620.25 | CF20: 7087742.4 | CG20: -16962363 | CH20: 89370.291 | CI20: 70523228 | CJ20: -9801376.2 | CK20: 256287.37 | CL20: 1.2800808e+08 | CM20: 57986065 | CN20: -9557660.5 | CO20: 13268981 | CP20: 2.4103118e+08
B21: Gross Margin | D21: 0 | E21: 0 | F21: 0 | G21: 0 | H21: 0 | I21: 0 | J21: 0 | K21: 0 | L21: 0 | M21: 0 | N21: 0 | O21: 0 | P21: 0 | Q21: 0 | R21: 0 | S21: 0 | T21: 0 | U21: 0 | V21: 0 | W21: 0 | X21: 0 | Y21: 0 | Z21: 0 | AA21: 0 | AB21: 0 | AC21: 0 | AD21: 0 | AE21: 0 | AF21: 0 | AG21: 0 | AH21: 0 | AI21: 0.67721739 | AJ21: 0.67721739 | AK21: 0.67721739 | AL21: 0.53321739 | AM21: 0.53321739 | AN21: 0.75032558 | AO21: -1.1220246 | AP21: 0.37765435 | AQ21: 0 | AR21: 0 | AS21: 0 | AT21: 0 | AU21: 0 | AV21: 0 | AW21: 0 | AX21: 0.69356327 | AY21: 0 | AZ21: 0.83442289 | BA21: 0.89670893 | BB21: 0.90149562 | BC21: 0.79399459 | BD21: 0.71678409 | BE21: 0.71765111 | BF21: 0.71850852 | BG21: 0.0050578 | BH21: 0.24780946 | BI21: 0.25241064 | BJ21: 0.97215984 | BK21: 0.9388608 | BL21: -9.3424836 | BM21: 0.797376 | BN21: 0.7250387 | BO21: 0.72581587 | BP21: 0.73269933 | BQ21: 0.62319798 | BR21: 0.64753255 | BS21: 0.66769575 | BT21: 0.28419527 | BU21: 0.34003478 | BV21: 0.97982223 | BW21: 0.73724315 | BX21: 0.067704985 | BY21: 0.87727309 | BZ21: 0.3911256 | CA21: -1.5706447 | CB21: 0.93095048 | CC21: 0.73816012 | CD21: 0.1081088 | CE21: 0.043136384 | CF21: 0.78955492 | CG21: -16.350371 | CH21: 0.081230446 | CI21: 0.8648327 | CJ21: -7.9506034 | CK21: 0.19672683 | CL21: 0.92047568 | CM21: 0.83966547 | CN21: -6.2528515 | CO21: 0.97070715 | CP21: 0.75251695
B23: Operating Expense: Marketing
B24: Marketing | D24: 0 | E24: 0 | F24: 0 | G24: 0 | H24: 0 | I24: 0 | J24: 0 | K24: 0 | L24: 0 | M24: 0 | N24: 0 | O24: 2938.99 | P24: 2938.99 | Q24: 0 | R24: 0 | S24: 0 | T24: 0 | U24: 0 | V24: 0 | W24: 0 | X24: 0 | Y24: 0 | Z24: 0 | AA24: 0 | AB24: 326.57 | AC24: 326.57 | AD24: 0 | AE24: 0 | AF24: 0 | AG24: 0 | AH24: 0 | AI24: 0 | AJ24: 0 | AK24: 0 | AL24: 0 | AM24: 0 | AN24: 0 | AO24: 0 | AP24: 0 | AQ24: 0 | AR24: 0 | AS24: 0 | AT24: 0 | AU24: 0 | AV24: 0 | AW24: 0 | AX24: 0 | AY24: 0 | AZ24: 0 | BA24: 0 | BB24: 0 | BC24: 0 | BD24: 0 | BE24: 0 | BF24: 0 | BG24: 0 | BH24: 0 | BI24: 0 | BJ24: 0 | BK24: 0 | BL24: 0 | BM24: 0 | BN24: 0 | BO24: 0 | BP24: 0 | BQ24: 0 | BR24: 0 | BS24: 0 | BT24: 0 | BU24: 0 | BV24: 0 | BW24: 0 | BX24: 0 | BY24: 0 | BZ24: 0 | CA24: 0 | CB24: 0 | CC24: 0 | CD24: 0 | CE24: 0 | CF24: 0 | CG24: 0 | CH24: 0 | CI24: 0 | CJ24: 0 | CK24: 0 | CL24: 0 | CM24: 0 | CN24: 0 | CO24: 0 | CP24: 0
B25: Total | D25: 0 | E25: 0 | F25: 0 | G25: 0 | H25: 0 | I25: 0 | J25: 0 | K25: 0 | L25: 0 | M25: 0 | N25: 0 | O25: 2938.99 | P25: 2938.99 | Q25: 0 | R25: 0 | S25: 0 | T25: 0 | U25: 0 | V25: 0 | W25: 0 | X25: 0 | Y25: 0 | Z25: 0 | AA25: 0 | AB25: 326.57 | AC25: 326.57 | AD25: 0 | AE25: 0 | AF25: 0 | AG25: 0 | AH25: 0 | AI25: 0 | AJ25: 0 | AK25: 0 | AL25: 0 | AM25: 0 | AN25: 0 | AO25: 0 | AP25: 0 | AQ25: 0 | AR25: 0 | AS25: 0 | AT25: 0 | AU25: 0 | AV25: 0 | AW25: 0 | AX25: 0 | AY25: 0 | AZ25: 0 | BA25: 0 | BB25: 0 | BC25: 0 | BD25: 0 | BE25: 0 | BF25: 0 | BG25: 0 | BH25: 0 | BI25: 0 | BJ25: 0 | BK25: 0 | BL25: 0 | BM25: 0 | BN25: 0 | BO25: 0 | BP25: 0 | BQ25: 0 | BR25: 0 | BS25: 0 | BT25: 0 | BU25: 0 | BV25: 0 | BW25: 0 | BX25: 0 | BY25: 0 | BZ25: 0 | CA25: 0 | CB25: 0 | CC25: 0 | CD25: 0 | CE25: 0 | CF25: 0 | CG25: 0 | CH25: 0 | CI25: 0 | CJ25: 0 | CK25: 0 | CL25: 0 | CM25: 0 | CN25: 0 | CO25: 0 | CP25: 0
B27: Operating Expense: General and Administrative
B28: Salaries | D28: 0 | E28: 0 | F28: 0 | G28: 0 | H28: 0 | I28: 0 | J28: 0 | K28: 0 | L28: 0 | M28: 0 | N28: 0 | O28: 0 | P28: 0 | Q28: 0 | R28: 0 | S28: 0 | T28: 0 | U28: 0 | V28: 0 | W28: 0 | X28: 0 | Y28: 0 | Z28: 0 | AA28: 0 | AB28: 0 | AC28: 0 | AD28: 0 | AE28: 0 | AF28: 0 | AG28: 0 | AH28: 0 | AI28: 0 | AJ28: 0 | AK28: 0 | AL28: 0 | AM28: 0 | AN28: 0 | AO28: 0 | AP28: 0 | AQ28: 0 | AR28: 0 | AS28: 0 | AT28: 0 | AU28: 0 | AV28: 0 | AW28: 0 | AX28: 2500 | AY28: 17500 | AZ28: 174165 | BA28: 199998 | BB28: 224998 | BC28: 619161 | BD28: 236247.9 | BE28: 236247.9 | BF28: 236247.9 | BG28: 236247.9 | BH28: 265122.9 | BI28: 316855.88 | BJ28: 832605.88 | BK28: 832605.88 | BL28: 832605.88 | BM28: 876355.88 | BN28: 876355.88 | BO28: 876355.88 | BP28: 6653855.7 | BQ28: 1145173.7 | BR28: 1145173.7 | BS28: 1145173.7 | BT28: 1145173.7 | BU28: 1145173.7 | BV28: 1145173.7 | BW28: 1145173.7 | BX28: 1145173.7 | BY28: 1145173.7 | BZ28: 1145173.7 | CA28: 1145173.7 | CB28: 1145173.7 | CC28: 13742084 | CD28: 2664932.4 | CE28: 2664932.4 | CF28: 2664932.4 | CG28: 2664932.4 | CH28: 2664932.4 | CI28: 2664932.4 | CJ28: 2664932.4 | CK28: 2664932.4 | CL28: 2664932.4 | CM28: 2664932.4 | CN28: 2664932.4 | CO28: 2664932.4 | CP28: 31979188
B29: Sales Comissions (% of sales) | D29: 0 | E29: 0 | F29: 0 | G29: 0 | H29: 0 | I29: 0 | J29: 0 | K29: 0 | L29: 0 | M29: 0 | N29: 0 | O29: 0 | P29: 0 | Q29: 0 | R29: 0 | S29: 0 | T29: 0 | U29: 0 | V29: 0 | W29: 0 | X29: 0 | Y29: 0 | Z29: 0 | AA29: 0 | AB29: 0 | AC29: 0 | AD29: 0 | AE29: 0 | AF29: 0 | AG29: 1437.5 | AH29: 1437.5 | AI29: 1437.5 | AJ29: 4312.5 | AK29: 4312.5 | AL29: 4312.5 | AM29: 5952.5 | AN29: 5952.5 | AO29: 5952.5 | AP29: 35107.5 | AQ29: 0 | AR29: 0 | AS29: 0 | AT29: 0 | AU29: 0 | AV29: 0 | AW29: 12500.003 | AX29: 12500.003 | AY29: 12500.003 | AZ29: 137500 | BA29: 137500 | BB29: 137500 | BC29: 450000 | BD29: 0 | BE29: 0 | BF29: 185970.64 | BG29: 0 | BH29: 0 | BI29: 190524.89 | BJ29: 0 | BK29: 0 | BL29: 2573661.6 | BM29: 0 | BN29: 0 | BO29: 3184842.9 | BP29: 6135000.1 | BQ29: 59320.838 | BR29: 59320.838 | BS29: 59320.838 | BT29: 1733943.5 | BU29: 1733943.5 | BV29: 1733943.5 | BW29: 2363191.4 | BX29: 2363191.4 | BY29: 2363191.4 | BZ29: 1536044.3 | CA29: 1536044.3 | CB29: 1536044.3 | CC29: 17077500 | CD29: 537876.94 | CE29: 537876.94 | CF29: 537876.94 | CG29: 4184157.6 | CH29: 4184157.6 | CI29: 4184157.6 | CJ29: 7080142.5 | CK29: 7080142.5 | CL29: 7080142.5 | CM29: 4212822.9 | CN29: 4212822.9 | CO29: 4212822.9 | CP29: 48045000
B30: Benefits | D30: 0 | E30: 0 | F30: 0 | G30: 0 | H30: 0 | I30: 0 | J30: 0 | K30: 0 | L30: 0 | M30: 0 | N30: 0 | O30: 0 | P30: 0 | Q30: 0 | R30: 0 | S30: 0 | T30: 0 | U30: 0 | V30: 0 | W30: 0 | X30: 0 | Y30: 0 | Z30: 0 | AA30: 0 | AB30: 0 | AC30: 0 | AD30: 0 | AE30: 0 | AF30: 0 | AG30: 0 | AH30: 0 | AI30: 0 | AJ30: 0 | AK30: 0 | AL30: 0 | AM30: 0 | AN30: 0 | AO30: 0 | AP30: 0 | AQ30: 0 | AR30: 0 | AS30: 0 | AT30: 0 | AU30: 0 | AV30: 0 | AW30: 0 | AX30: 2090 | AY30: 4180 | AZ30: 41800 | BA30: 48070 | BB30: 52250 | BC30: 148390 | BD30: 52250 | BE30: 52250 | BF30: 52250 | BG30: 52250 | BH30: 56430 | BI30: 62700 | BJ30: 64790 | BK30: 64790 | BL30: 64790 | BM30: 66880 | BN30: 66880 | BO30: 66880 | BP30: 723140 | BQ30: 66880 | BR30: 66880 | BS30: 66880 | BT30: 66880 | BU30: 66880 | BV30: 66880 | BW30: 66880 | BX30: 66880 | BY30: 66880 | BZ30: 66880 | CA30: 66880 | CB30: 66880 | CC30: 802560 | CD30: 66880 | CE30: 66880 | CF30: 66880 | CG30: 66880 | CH30: 66880 | CI30: 66880 | CJ30: 66880 | CK30: 66880 | CL30: 66880 | CM30: 66880 | CN30: 66880 | CO30: 66880 | CP30: 802560
B31: Payroll Taxes | D31: 0 | E31: 0 | F31: 0 | G31: 0 | H31: 0 | I31: 0 | J31: 0 | K31: 0 | L31: 0 | M31: 0 | N31: 0 | O31: 0 | P31: 0 | Q31: 0 | R31: 0 | S31: 0 | T31: 0 | U31: 0 | V31: 0 | W31: 0 | X31: 0 | Y31: 0 | Z31: 0 | AA31: 0 | AB31: 0 | AC31: 0 | AD31: 0 | AE31: 0 | AF31: 0 | AG31: 0 | AH31: 0 | AI31: 0 | AJ31: 0 | AK31: 0 | AL31: 0 | AM31: 0 | AN31: 0 | AO31: 0 | AP31: 0 | AQ31: 0 | AR31: 0 | AS31: 0 | AT31: 0 | AU31: 0 | AV31: 0 | AW31: 0 | AX31: 857.75 | AY31: 3834.25 | AZ31: 38200.967 | BA31: 43881.661 | BB31: 48987.161 | BC31: 135761.79 | BD31: 50894.019 | BE31: 50894.019 | BF31: 50894.019 | BG31: 50894.019 | BH31: 56656.332 | BI31: 66727.072 | BJ31: 154580.7 | BK31: 154580.7 | BL31: 154580.7 | BM31: 162430.32 | BN31: 162430.32 | BO31: 162430.32 | BP31: 1277992.5 | BQ31: 207994.94 | BR31: 207994.94 | BS31: 207994.94 | BT31: 207994.94 | BU31: 207994.94 | BV31: 207994.94 | BW31: 207994.94 | BX31: 207994.94 | BY31: 207994.94 | BZ31: 207994.94 | CA31: 207994.94 | CB31: 207994.94 | CC31: 2495939.3 | CD31: 465594.04 | CE31: 465594.04 | CF31: 465594.04 | CG31: 465594.04 | CH31: 465594.04 | CI31: 465594.04 | CJ31: 465594.04 | CK31: 465594.04 | CL31: 465594.04 | CM31: 465594.04 | CN31: 465594.04 | CO31: 465594.04 | CP31: 5587128.4
B32: Office Infrastructure | D32: 0 | E32: 0 | F32: 0 | G32: 0 | H32: 0 | I32: 0 | J32: 0 | K32: 0 | L32: 0 | M32: 0 | N32: 0 | O32: 17911.46 | P32: 17911.46 | Q32: 0 | R32: 0 | S32: 0 | T32: 0 | U32: 0 | V32: 0 | W32: 0 | X32: 0 | Y32: 0 | Z32: 0 | AA32: 0 | AB32: 13747.21 | AC32: 13747.21 | AD32: 0 | AE32: 0 | AF32: 0 | AG32: 0 | AH32: 0 | AI32: 0 | AJ32: 0 | AK32: 0 | AL32: 0 | AM32: 0 | AN32: 0 | AO32: 52440 | AP32: 52440 | AQ32: 0 | AR32: 0 | AS32: 0 | AT32: 0 | AU32: 0 | AV32: 0 | AW32: 0 | AX32: 1500 | AY32: 1500 | AZ32: 27000 | BA32: 4500 | BB32: 3000 | BC32: 37500 | BD32: 0 | BE32: 0 | BF32: 0 | BG32: 0 | BH32: 3000 | BI32: 4500 | BJ32: 1500 | BK32: 0 | BL32: 0 | BM32: 1500 | BN32: 0 | BO32: 0 | BP32: 10500 | BQ32: 0 | BR32: 0 | BS32: 0 | BT32: 0 | BU32: 0 | BV32: 0 | BW32: 0 | BX32: 0 | BY32: 0 | BZ32: 0 | CA32: 0 | CB32: -0.5 | CC32: -0.5 | CD32: -0.515 | CE32: -0.515 | CF32: -0.515 | CG32: -0.515 | CH32: -0.515 | CI32: -0.515 | CJ32: -0.515 | CK32: -0.515 | CL32: -0.515 | CM32: -0.515 | CN32: -0.515 | CO32: 5.485 | CP32: -0.18
B33: Professional Services | D33: 0 | E33: 0 | F33: 0 | G33: 0 | H33: 0 | I33: 0 | J33: 0 | K33: 0 | L33: 0 | M33: 0 | N33: 0 | O33: 112717.15 | P33: 112717.15 | Q33: 0 | R33: 0 | S33: 0 | T33: 0 | U33: 0 | V33: 0 | W33: 0 | X33: 0 | Y33: 0 | Z33: 0 | AA33: 0 | AB33: 38305.98 | AC33: 38305.98 | AD33: 0 | AE33: 0 | AF33: 0 | AG33: 0 | AH33: 0 | AI33: 0 | AJ33: 0 | AK33: 0 | AL33: 0 | AM33: 20000 | AN33: 74510.28 | AO33: 26391 | AP33: 120901.28 | AQ33: 8431.65 | AR33: 23431.65 | AS33: 23431.65 | AT33: 23431.65 | AU33: 23431.65 | AV33: 23431.65 | AW33: 23431.65 | AX33: 23431.65 | AY33: 23431.65 | AZ33: 23431.65 | BA33: 23431.65 | BB33: 23426.65 | BC33: 266174.8 | BD33: 63654.647 | BE33: 63654.647 | BF33: 63654.647 | BG33: 63654.647 | BH33: 63654.647 | BI33: 63654.647 | BJ33: 63654.647 | BK33: 63654.647 | BL33: 63654.647 | BM33: 63654.647 | BN33: 63654.647 | BO33: 63655.647 | BP33: 763856.77 | BQ33: 73203.995 | BR33: 73203.995 | BS33: 73203.995 | BT33: 73203.995 | BU33: 73203.995 | BV33: 73203.995 | BW33: 73203.995 | BX33: 73203.995 | BY33: 73203.995 | BZ33: 73203.995 | CA33: 73203.995 | CB33: 73188.995 | CC33: 878432.94 | CD33: 84167.344 | CE33: 84167.344 | CF33: 84167.344 | CG33: 84167.344 | CH33: 84167.344 | CI33: 84167.344 | CJ33: 84167.344 | CK33: 84167.344 | CL33: 84167.344 | CM33: 84167.344 | CN33: 84167.344 | CO33: 84353.344 | CP33: 1010194.1
B34: Travel | D34: 0 | E34: 0 | F34: 0 | G34: 0 | H34: 0 | I34: 0 | J34: 0 | K34: 0 | L34: 0 | M34: 0 | N34: 0 | O34: 24748.05 | P34: 24748.05 | Q34: 0 | R34: 0 | S34: 0 | T34: 0 | U34: 0 | V34: 0 | W34: 0 | X34: 0 | Y34: 0 | Z34: 0 | AA34: 0 | AB34: 37161.53 | AC34: 37161.53 | AD34: 37161.53 | AE34: 0 | AF34: 0 | AG34: 0 | AH34: 0 | AI34: 0 | AJ34: 0 | AK34: 0 | AL34: 0 | AM34: 0 | AN34: 0 | AO34: 0 | AP34: 37161.53 | AQ34: 0 | AR34: 0 | AS34: 0 | AT34: 0 | AU34: 0 | AV34: 0 | AW34: 0 | AX34: 0 | AY34: 0 | AZ34: 7650 | BA34: 8925 | BB34: 8925 | BC34: 25500 | BD34: 8925 | BE34: 8925 | BF34: 8925 | BG34: 8925 | BH34: 8925 | BI34: 8925 | BJ34: 8925 | BK34: 8925 | BL34: 8925 | BM34: 10200 | BN34: 10200 | BO34: 10200 | BP34: 110925 | BQ34: 20400 | BR34: 20400 | BS34: 20400 | BT34: 20400 | BU34: 20400 | BV34: 20400 | BW34: 20400 | BX34: 20400 | BY34: 20400 | BZ34: 20400 | CA34: 20400 | CB34: 20400 | CC34: 244800 | CD34: 40800 | CE34: 40800 | CF34: 40800 | CG34: 40800 | CH34: 40800 | CI34: 40800 | CJ34: 40800 | CK34: 40800 | CL34: 40800 | CM34: 40800 | CN34: 40800 | CO34: 40800 | CP34: 489600
B35: Telecommunications | D35: 0 | E35: 0 | F35: 0 | G35: 0 | H35: 0 | I35: 0 | J35: 0 | K35: 0 | L35: 0 | M35: 0 | N35: 0 | O35: 0 | P35: 0 | Q35: 0 | R35: 0 | S35: 0 | T35: 0 | U35: 0 | V35: 0 | W35: 0 | X35: 0 | Y35: 0 | Z35: 0 | AA35: 0 | AB35: 0 | AC35: 0 | AD35: 0 | AE35: 0 | AF35: 0 | AG35: 0 | AH35: 0 | AI35: 0 | AJ35: 0 | AK35: 0 | AL35: 0 | AM35: 0 | AN35: 0 | AO35: 0 | AP35: 0 | AQ35: 0 | AR35: 0 | AS35: 0 | AT35: 0 | AU35: 0 | AV35: 0 | AW35: 0 | AX35: 0 | AY35: 0 | AZ35: 49320 | BA35: 145800 | BB35: 291600 | BC35: 486720 | BD35: 4500 | BE35: 4500 | BF35: 4500 | BG35: 12500 | BH35: 12980 | BI35: 12500 | BJ35: 16500 | BK35: 16500 | BL35: 16500 | BM35: 16500 | BN35: 16500 | BO35: 16500 | BP35: 150480 | BQ35: 16500 | BR35: 78000 | BS35: 16500 | BT35: 16500 | BU35: 16500 | BV35: 16500 | BW35: 16500 | BX35: 16500 | BY35: 16500 | BZ35: 16500 | CA35: 16500 | CB35: 16500 | CC35: 259500 | CD35: 33000 | CE35: 127500 | CF35: 33000 | CG35: 127500 | CH35: 33000 | CI35: 33000 | CJ35: 33000 | CK35: 33000 | CL35: 33000 | CM35: 33000 | CN35: 33000 | CO35: 33000 | CP35: 585000
B37: Product Development Activities | D37: 0 | E37: 0 | F37: 0 | G37: 0 | H37: 0 | I37: 0 | J37: 0 | K37: 0 | L37: 0 | M37: 0 | N37: 0 | O37: 0 | P37: 0 | Q37: 0 | R37: 0 | S37: 0 | T37: 0 | U37: 0 | V37: 0 | W37: 0 | X37: 0 | Y37: 0 | Z37: 0 | AA37: 0 | AB37: 0 | AC37: 0 | AD37: 0 | AE37: 0 | AF37: 0 | AG37: 0 | AH37: 0 | AI37: 0 | AJ37: 0 | AK37: 0 | AL37: 0 | AM37: 0 | AN37: 0 | AO37: 0 | AP37: 0 | AQ37: 10000 | AR37: 10000 | AS37: 10000 | AT37: 10000 | AU37: 10000 | AV37: 10000 | AW37: 10000 | AX37: 10000 | AY37: 10000 | AZ37: 10000 | BA37: 10000 | BB37: 10000 | BC37: 120000 | BD37: 12500 | BE37: 12500 | BF37: 12500 | BG37: 12500 | BH37: 12500 | BI37: 12500 | BJ37: 12500 | BK37: 12500 | BL37: 12500 | BM37: 12500 | BN37: 12500 | BO37: 12500 | BP37: 150000 | BQ37: 85000 | BR37: 85000 | BS37: 85000 | BT37: 85000 | BU37: 85000 | BV37: 85000 | BW37: 85000 | BX37: 85000 | BY37: 85000 | BZ37: 85000 | CA37: 85000 | CB37: 85000 | CC37: 1020000 | CD37: 105000 | CE37: 105000 | CF37: 105000 | CG37: 105000 | CH37: 105000 | CI37: 105000 | CJ37: 105000 | CK37: 105000 | CL37: 105000 | CM37: 105000 | CN37: 105000 | CO37: 1605000 | CP37: 2760000
B38: Other expenses (specify) | P38: 0 | AC38: 0 | AP38: 0 | BC38: 0 | BP38: 0 | CC38: 0 | CP38: 0
B39: Total | D39: 0 | E39: 0 | F39: 0 | G39: 0 | H39: 0 | I39: 0 | J39: 0 | K39: 0 | L39: 0 | M39: 0 | N39: 0 | O39: 155376.66 | P39: 155376.66 | Q39: 0 | R39: 0 | S39: 0 | T39: 0 | U39: 0 | V39: 0 | W39: 0 | X39: 0 | Y39: 0 | Z39: 0 | AA39: 0 | AB39: 89214.72 | AC39: 89214.72 | AD39: 37161.53 | AE39: 0 | AF39: 0 | AG39: 1437.5 | AH39: 1437.5 | AI39: 1437.5 | AJ39: 4312.5 | AK39: 4312.5 | AL39: 4312.5 | AM39: 25952.5 | AN39: 80462.78 | AO39: 84783.5 | AP39: 245610.31 | AQ39: 18431.65 | AR39: 33431.65 | AS39: 33431.65 | AT39: 33431.65 | AU39: 33431.65 | AV39: 33431.65 | AW39: 45931.653 | AX39: 52879.403 | AY39: 72945.903 | AZ39: 509067.62 | BA39: 622106.31 | BB39: 800686.81 | BC39: 2289207.6 | BD39: 428971.57 | BE39: 428971.57 | BF39: 614942.2 | BG39: 436971.57 | BH39: 479268.88 | BI39: 738887.5 | BJ39: 1155056.2 | BK39: 1153556.2 | BL39: 3727217.8 | BM39: 1210020.9 | BN39: 1208520.9 | BO39: 4393364.8 | BP39: 15975750 | BQ39: 1674473.4 | BR39: 1735973.4 | BS39: 1674473.4 | BT39: 3349096.1 | BU39: 3349096.1 | BV39: 3349096.1 | BW39: 3978344 | BX39: 3978344 | BY39: 3978344 | BZ39: 3151196.9 | CA39: 3151196.9 | CB39: 3151181.4 | CC39: 36520816 | CD39: 3998250.2 | CE39: 4092750.2 | CF39: 3998250.2 | CG39: 7739030.8 | CH39: 7644530.8 | CI39: 7644530.8 | CJ39: 10540516 | CK39: 10540516 | CL39: 10540516 | CM39: 7673196.1 | CN39: 7673196.1 | CO39: 9173388.1 | CP39: 91258671
B41: Operating Expense: Other
B42: Dedicated Sales Support | O42: 0 | P42: 0 | Q42: 0 | AC42: 0 | AD42: 0 | AE42: 0 | AF42: 0 | AG42: 0 | AH42: 0 | AI42: 0 | AJ42: 0 | AK42: 0 | AL42: 0 | AM42: 0 | AN42: 0 | AO42: 0 | AP42: 0 | AQ42: 0 | AR42: 0 | AS42: 0 | AT42: 0 | AU42: 0 | AV42: 0 | AW42: 0 | AX42: 0 | AY42: 0 | AZ42: 0 | BA42: 0 | BB42: 0 | BC42: 0 | BD42: 0 | BE42: 0 | BF42: 0 | BG42: 0 | BH42: 0 | BI42: 0 | BJ42: 0 | BK42: 0 | BL42: 0 | BM42: 0 | BN42: 0 | BO42: 0 | BP42: 0 | BQ42: 0 | BR42: 0 | BS42: 0 | BT42: 0 | BU42: 0 | BV42: 0 | BW42: 0 | BX42: 0 | BY42: 0 | BZ42: 0 | CA42: 0 | CB42: 0 | CC42: 0 | CD42: 0 | CE42: 0 | CF42: 0 | CG42: 0 | CH42: 0 | CI42: 0 | CJ42: 0 | CK42: 0 | CL42: 0 | CM42: 0 | CN42: 0 | CO42: 0 | CP42: 0
B43: Total | D43: 0 | E43: 0 | F43: 0 | G43: 0 | H43: 0 | I43: 0 | J43: 0 | K43: 0 | L43: 0 | M43: 0 | N43: 0 | O43: 0 | P43: 0 | Q43: 0 | R43: 0 | S43: 0 | T43: 0 | U43: 0 | V43: 0 | W43: 0 | X43: 0 | Y43: 0 | Z43: 0 | AA43: 0 | AB43: 0 | AC43: 0 | AD43: 0 | AE43: 0 | AF43: 0 | AG43: 0 | AH43: 0 | AI43: 0 | AJ43: 0 | AK43: 0 | AL43: 0 | AM43: 0 | AN43: 0 | AO43: 0 | AP43: 0 | AQ43: 0 | AR43: 0 | AS43: 0 | AT43: 0 | AU43: 0 | AV43: 0 | AW43: 0 | AX43: 0 | AY43: 0 | AZ43: 0 | BA43: 0 | BB43: 0 | BC43: 0 | BD43: 0 | BE43: 0 | BF43: 0 | BG43: 0 | BH43: 0 | BI43: 0 | BJ43: 0 | BK43: 0 | BL43: 0 | BM43: 0 | BN43: 0 | BO43: 0 | BP43: 0 | BQ43: 0 | BR43: 0 | BS43: 0 | BT43: 0 | BU43: 0 | BV43: 0 | BW43: 0 | BX43: 0 | BY43: 0 | BZ43: 0 | CA43: 0 | CB43: 0 | CC43: 0 | CD43: 0 | CE43: 0 | CF43: 0 | CG43: 0 | CH43: 0 | CI43: 0 | CJ43: 0 | CK43: 0 | CL43: 0 | CM43: 0 | CN43: 0 | CO43: 0 | CP43: 0
B45: Total Operating Expenses | D45: 0 | E45: 0 | F45: 0 | G45: 0 | H45: 0 | I45: 0 | J45: 0 | K45: 0 | L45: 0 | M45: 0 | N45: 0 | O45: 158315.65 | P45: 158315.65 | Q45: 0 | R45: 0 | S45: 0 | T45: 0 | U45: 0 | V45: 0 | W45: 0 | X45: 0 | Y45: 0 | Z45: 0 | AA45: 0 | AB45: 89541.29 | AC45: 89541.29 | AD45: 37161.53 | AE45: 0 | AF45: 0 | AG45: 1437.5 | AH45: 1437.5 | AI45: 1437.5 | AJ45: 4312.5 | AK45: 4312.5 | AL45: 4312.5 | AM45: 25952.5 | AN45: 80462.78 | AO45: 84783.5 | AP45: 245610.31 | AQ45: 18431.65 | AR45: 33431.65 | AS45: 33431.65 | AT45: 33431.65 | AU45: 33431.65 | AV45: 33431.65 | AW45: 45931.653 | AX45: 52879.403 | AY45: 72945.903 | AZ45: 509067.62 | BA45: 622106.31 | BB45: 800686.81 | BC45: 2289207.6 | BD45: 428971.57 | BE45: 428971.57 | BF45: 614942.2 | BG45: 436971.57 | BH45: 479268.88 | BI45: 738887.5 | BJ45: 1155056.2 | BK45: 1153556.2 | BL45: 3727217.8 | BM45: 1210020.9 | BN45: 1208520.9 | BO45: 4393364.8 | BP45: 15975750 | BQ45: 1674473.4 | BR45: 1735973.4 | BS45: 1674473.4 | BT45: 3349096.1 | BU45: 3349096.1 | BV45: 3349096.1 | BW45: 3978344 | BX45: 3978344 | BY45: 3978344 | BZ45: 3151196.9 | CA45: 3151196.9 | CB45: 3151181.4 | CC45: 36520816 | CD45: 3998250.2 | CE45: 4092750.2 | CF45: 3998250.2 | CG45: 7739030.8 | CH45: 7644530.8 | CI45: 7644530.8 | CJ45: 10540516 | CK45: 10540516 | CL45: 10540516 | CM45: 7673196.1 | CN45: 7673196.1 | CO45: 9173388.1 | CP45: 91258671
B46: Income from Operations | D46: 0 | E46: 0 | F46: 0 | G46: 0 | H46: 0 | I46: 0 | J46: 0 | K46: 0 | L46: 0 | M46: 0 | N46: 0 | O46: -158315.65 | P46: -158315.65 | Q46: 0 | R46: 0 | S46: 0 | T46: 0 | U46: 0 | V46: 0 | W46: 0 | X46: 0 | Y46: 0 | Z46: 0 | AA46: 0 | AB46: -89541.29 | AC46: -89541.29 | AD46: -37161.53 | AE46: 0 | AF46: 0 | AG46: -1437.5 | AH46: -1437.5 | AI46: 18032.5 | AJ46: 15157.5 | AK46: 15157.5 | AL46: 11017.5 | AM46: -10622.5 | AN46: -40132.78 | AO46: -125793.5 | AP46: -157220.31 | AQ46: -27771.65 | AR46: -43781.488 | AS46: -44900.508 | AT46: -46140.518 | AU46: -47514.596 | AV46: -49037.239 | AW46: -115066.06 | AX46: 120511.46 | AY46: -157838.06 | AZ46: -35000.142 | BA46: 282854.18 | BB46: 256460.84 | BC46: 92776.205 | BD46: -135145.38 | BE46: -132393.31 | BF46: -315597.96 | BG46: -434847.33 | BH46: -374350.58 | BI46: -631161 | BJ46: 10007493 | BK46: 3764582.4 | BL46: -7810981.2 | BM46: 15009081 | BN46: -886538.76 | BO46: -4068488.2 | BP46: 13991653 | BQ46: -1458433.6 | BR46: -1480556 | BS46: -1377144.4 | BT46: -3207158.1 | BU46: -3159678.3 | BV46: 29594857 | BW46: 26015397 | BX46: -3927354.1 | BY46: 1133579.4 | BZ46: 5025581.3 | CA46: -4705390 | CB46: 5065014.5 | CC46: 47518714 | CD46: -3905042.3 | CE46: -4053129.9 | CF46: 3089492.2 | CG46: -24701394 | CH46: -7555160.5 | CI46: 62878697 | CJ46: -20341892 | CK46: -10284228 | CL46: 1.1746756e+08 | CM46: 50312869 | CN46: -17230857 | CO46: 4095593.1 | CP46: 1.4977251e+08
B48: Taxes
B49: Tax Loss Carry Forward | D49: 0 | E49: 0 | F49: 0 | G49: 0 | H49: 0 | I49: 0 | J49: 0 | K49: 0 | L49: 0 | M49: 0 | N49: 0 | O49: 158315.65 | P49: 158315.65 | Q49: 158315.65 | R49: 158315.65 | S49: 158315.65 | T49: 158315.65 | U49: 158315.65 | V49: 158315.65 | W49: 158315.65 | X49: 158315.65 | Y49: 158315.65 | Z49: 158315.65 | AA49: 158315.65 | AB49: 247856.94 | AC49: 247856.94 | AD49: 285018.47 | AE49: 285018.47 | AF49: 285018.47 | AG49: 286455.97 | AH49: 287893.47 | AI49: 269860.97 | AJ49: 254703.47 | AK49: 239545.97 | AL49: 228528.47 | AM49: 239150.97 | AN49: 279283.75 | AO49: 650291.25 | AP49: 405077.25 | AQ49: 432848.9 | AR49: 476630.39 | AS49: 521530.9 | AT49: 567671.41 | AU49: 615186.01 | AV49: 664223.25 | AW49: 779289.31 | AX49: 658777.86 | AY49: 816615.92 | AZ49: 851616.06 | BA49: 568761.88 | BB49: 557515.05 | BC49: 312301.05 | BD49: 447446.42 | BE49: 579839.73 | BF49: 895437.69 | BG49: 1330285 | BH49: 1704635.6 | BI49: 2335796.6 | BJ49: 0 | BK49: 0 | BL49: 7810981.2 | BM49: 0 | BN49: 886538.76 | BO49: 4955026.9 | BP49: -4642725.9 | BQ49: -3184292.3 | BR49: -1703736.3 | BS49: -326591.88 | BT49: 2880566.2 | BU49: 6040244.6 | BV49: 0 | BW49: 0 | BX49: 3927354.1 | BY49: 2793774.7 | BZ49: 0 | CA49: 4705390 | CB49: 0 | CC49: -52161440 | CD49: -48256398 | CE49: -44203268 | CF49: -44203268 | CG49: -19501875 | CH49: -11946714 | CI49: -11946714 | CJ49: 8395177.9 | CK49: 18679406 | CL49: 0 | CM49: 0 | CN49: 17230857 | CO49: 13135264 | CP49: 13135264
B50: Add to Tax Loss Carry Forward | D50: 0 | E50: 0 | F50: 0 | G50: 0 | H50: 0 | I50: 0 | J50: 0 | K50: 0 | L50: 0 | M50: 0 | N50: 0 | O50: 158315.65 | P50: 158315.65 | Q50: 0 | R50: 0 | S50: 0 | T50: 0 | U50: 0 | V50: 0 | W50: 0 | X50: 0 | Y50: 0 | Z50: 0 | AA50: 0 | AB50: 89541.29 | AC50: 89541.29 | AD50: 37161.53 | AE50: 0 | AF50: 0 | AG50: 1437.5 | AH50: 1437.5 | AI50: -18032.5 | AJ50: -15157.5 | AK50: -15157.5 | AL50: -11017.5 | AM50: 10622.5 | AN50: 40132.78 | AO50: 125793.5 | AP50: 157220.31 | AQ50: 27771.65 | AR50: 43781.488 | AS50: 44900.508 | AT50: 46140.518 | AU50: 47514.596 | AV50: 49037.239 | AW50: 115066.06 | AX50: -120511.46 | AY50: 157838.06 | AZ50: 35000.142 | BA50: -282854.18 | BB50: -256460.84 | BC50: -92776.205 | BD50: 135145.38 | BE50: 132393.31 | BF50: 315597.96 | BG50: 434847.33 | BH50: 374350.58 | BI50: 631161 | BJ50: -2335796.6 | BK50: 0 | BL50: 7810981.2 | BM50: -7810981.2 | BN50: 886538.76 | BO50: 4068488.2 | BP50: -4955026.9 | BQ50: 1458433.6 | BR50: 1480556 | BS50: 1377144.4 | BT50: 3207158.1 | BU50: 3159678.3 | BV50: -6040244.6 | BW50: 0 | BX50: 3927354.1 | BY50: -1133579.4 | BZ50: -2793774.7 | CA50: 4705390 | CB50: -4705390 | CC50: 4642725.9 | CD50: 3905042.3 | CE50: 4053129.9 | CF50: 0 | CG50: 24701394 | CH50: 7555160.5 | CI50: 0 | CJ50: 20341892 | CK50: 10284228 | CL50: -18679406 | CM50: 0 | CN50: 17230857 | CO50: -4095593.1 | CP50: 65296704
...

Sheet Income Statement Act
B2: Income Statement Actuals
D3: Month 1 | E3: Month 2 | F3: Month 3 | G3: Month 4 | H3: Month 5 | I3: Month 6 | J3: Month 7 | K3: Month 8 | L3: Month 9 | M3: Month 10 | N3: Month 11 | O3: Month 12 | P3: 2016 | Q3: Month 1 | R3: Month 2 | S3: Month 3 | T3: Month 4 | U3: Month 5 | V3: Month 6 | W3: Month 7 | X3: Month 8 | Y3: Month 9 | Z3: Month 10 | AA3: Month 11 | AB3: Month 12 | AC3: 2017 | AD3: Month 1 | AE3: Month 2 | AF3: Month 3 | AG3: Month 4 | AH3: Month 5 | AI3: Month 6 | AJ3: Month 7 | AK3: Month 8 | AL3: Month 9 | AM3: Month 10 | AN3: Month 11 | AO3: Month 12 | AP3: 2018 | AQ3: Month 1 | AR3: Month 2 | AS3: Month 3 | AT3: Month 4 | AU3: Month 5 | AV3: Month 6 | AW3: Month 7 | AX3: Month 8 | AY3: Month 9 | AZ3: Month 10 | BA3: Month 11 | BB3: Month 12 | BC3: 2019 | BD3: Month 1 | BE3: Month 2 | BF3: Month 3 | BG3: Month 4 | BH3: Month 5 | BI3: Month 6 | BJ3: Month 7 | BK3: Month 8 | BL3: Month 9 | BM3: Month 10 | BN3: Month 11 | BO3: Month 12 | BP3: 2020 | BQ3: Month 1 | BR3: Month 2 | BS3: Month 3 | BT3: Month 4 | BU3: Month 5 | BV3: Month 6 | BW3: Month 7 | BX3: Month 8 | BY3: Month 9 | BZ3: Month 10 | CA3: Month 11 | CB3: Month 12 | CC3: 2021 | CD3: Month 1 | CE3: Month 2 | CF3: Month 3 | CG3: Month 4 | CH3: Month 5 | CI3: Month 6 | CJ3: Month 7 | CK3: Month 8 | CL3: Month 9 | CM3: Month 10 | CN3: Month 11 | CO3: Month 12 | CP3: 2022
B5: Sales Revenue
B6: Unlimited & Limited Licenses | D6: 0 | E6: 0 | F6: 0 | G6: 0 | H6: 0 | I6: 0 | J6: 0 | K6: 0 | L6: 0 | M6: 0 | N6: 0 | O6: 0 | P6: 0 | Q6: 0 | R6: 0 | S6: 0 | T6: 0 | U6: 0 | V6: 0 | W6: 0 | X6: 0 | Y6: 0 | Z6: 0 | AA6: 0 | AB6: 0 | AC6: 0 | AD6: 0 | AE6: 0 | AF6: 0 | AG6: 0 | AH6: 0 | AI6: 0 | AJ6: 0 | AK6: 0 | AL6: 0 | AM6: 0 | AN6: 0 | AO6: 0 | AP6: 0 | AQ6: 0 | AR6: 0 | AS6: 0 | AT6: 0 | AU6: 0 | AV6: 0 | AW6: 0 | AX6: -23866.477 | AY6: 0 | AZ6: 519838.04 | BA6: 946669.78 | BB6: 1761023.6 | BC6: 3203664.9 | BD6: 497468.36 | BE6: 499985.83 | BF6: 502516.03 | BG6: 505059.05 | BH6: 507614.93 | BI6: 510183.75 | BJ6: 11564766 | BK6: 5320113.4 | BL6: 517968.46 | BM6: 20420590 | BN6: 523224.14 | BO6: 525871.95 | BP6: 41895361 | BQ6: 559714.79 | BR6: 595735.62 | BS6: 634074.59 | BT6: 674880.89 | BU6: 718313.3 | BV6: 33768541 | BW6: 40813743 | BX6: 866112.39 | BY6: 5921851.6 | BZ6: 20981178 | CA6: 1044322.4 | CB6: 18858448 | CC6: 1.2543692e+08 | CD6: 1152478 | CE6: 1194934 | CF6: 9238954 | CG6: 1284595.7 | CH6: 1331918.8 | CI6: 81761204 | CJ6: 1431859.1 | CK6: 1484607.2 | CL6: 1.392313e+08 | CM6: 69204004 | CN6: 1654799.5 | CO6: 13775760 | CP6: 3.2274641e+08
B7: PPE (Price per Engagement) | D7: 0 | E7: 0 | F7: 0 | G7: 0 | H7: 0 | I7: 0 | J7: 0 | K7: 0 | L7: 0 | M7: 0 | N7: 0 | O7: 0 | P7: 0 | Q7: 0 | R7: 0 | S7: 0 | T7: 0 | U7: 0 | V7: 0 | W7: 0 | X7: 0 | Y7: 0 | Z7: 0 | AA7: 0 | AB7: 0 | AC7: 0 | AD7: 0 | AE7: 0 | AF7: 0 | AG7: 0 | AH7: 0 | AI7: 0 | AJ7: 0 | AK7: 0 | AL7: 0 | AM7: 0 | AN7: 0 | AO7: 0 | AP7: 0 | AQ7: 0 | AR7: 0 | AS7: 0 | AT7: 0 | AU7: 0 | AV7: 0 | AW7: 0 | AX7: 60011.224 | AY7: 0 | AZ7: 73689.532 | BA7: 81656.819 | BB7: 90485.526 | BC7: 305843.1 | BD7: 90943.434 | BE7: 91403.659 | BF7: 91866.213 | BG7: 92331.107 | BH7: 92798.354 | BI7: 93267.966 | BJ7: 93739.954 | BK7: 94214.331 | BL7: 94691.108 | BM7: 95170.298 | BN7: 95651.914 | BO7: 96135.966 | BP7: 1122214.3 | BQ7: 102322.86 | BR7: 108907.92 | BS7: 115916.76 | BT7: 123376.66 | BU7: 131316.65 | BV7: 139767.62 | BW7: 148762.46 | BX7: 158336.17 | BY7: 168526 | BZ7: 179371.61 | CA7: 190915.19 | CB7: 203201.66 | CC7: 1770721.6 | CD7: 210687.39 | CE7: 218448.87 | CF7: 226496.28 | CG7: 234840.15 | CH7: 243491.4 | CI7: 252461.35 | CJ7: 261761.74 | CK7: 271404.75 | CL7: 281403 | CM7: 291769.57 | CN7: 302518.04 | CO7: 313662.46 | CP7: 3108945
B8: Professional Services | D8: 0 | E8: 0 | F8: 0 | G8: 0 | H8: 0 | I8: 0 | J8: 0 | K8: 0 | L8: 0 | M8: 0 | N8: 0 | O8: 0 | P8: 0 | Q8: 0 | R8: 0 | S8: 0 | T8: 0 | U8: 0 | V8: 0 | W8: 0 | X8: 0 | Y8: 0 | Z8: 0 | AA8: 0 | AB8: 0 | AC8: 0 | AD8: 0 | AE8: 0 | AF8: 0 | AG8: 0 | AH8: 0 | AI8: 28750 | AJ8: 28750 | AK8: 28750 | AL8: 28750 | AM8: 28750 | AN8: 53750 | AO8: 36550 | AP8: 234050 | AQ8: 0 | AR8: 0 | AS8: 0 | AT8: 0 | AU8: 0 | AV8: 0 | AW8: 0 | AX8: 276671.65 | AY8: 0 | AZ8: 32750.903 | BA8: 36291.92 | BB8: 40215.79 | BC8: 385930.27 | BD8: 40419.304 | BE8: 40623.848 | BF8: 40829.428 | BG8: 41036.048 | BH8: 41243.713 | BI8: 41452.429 | BJ8: 41662.202 | BK8: 41873.036 | BL8: 42084.937 | BM8: 42297.91 | BN8: 42511.962 | BO8: 42727.096 | BP8: 498761.91 | BQ8: 45476.827 | BR8: 48403.519 | BS8: 51518.56 | BT8: 54834.072 | BU8: 58362.956 | BV8: 62118.943 | BW8: 66116.65 | BX8: 70371.632 | BY8: 74900.445 | BZ8: 79720.714 | CA8: 84851.195 | CB8: 90311.851 | CC8: 786987.36 | CD8: 93638.838 | CE8: 97088.388 | CF8: 100665.02 | CG8: 104373.4 | CH8: 108218.4 | CI8: 112205.05 | CJ8: 116338.55 | CK8: 120624.34 | CL8: 125068 | CM8: 129675.37 | CN8: 134452.46 | CO8: 139405.54 | CP8: 1381753.3
B9: Merchandising Affiliate | D9: 0 | E9: 0 | F9: 0 | G9: 0 | H9: 0 | I9: 0 | J9: 0 | K9: 0 | L9: 0 | M9: 0 | N9: 0 | O9: 0 | P9: 0 | Q9: 0 | R9: 0 | S9: 0 | T9: 0 | U9: 0 | V9: 0 | W9: 0 | X9: 0 | Y9: 0 | Z9: 0 | AA9: 0 | AB9: 0 | AC9: 0 | AD9: 0 | AE9: 0 | AF9: 0 | AG9: 0 | AH9: 0 | AI9: 0 | AJ9: 0 | AK9: 0 | AL9: 0 | AM9: 0 | AN9: 0 | AO9: 0 | AP9: 0 | AQ9: 0 | AR9: 0 | AS9: 0 | AT9: 0 | AU9: 0 | AV9: 0 | AW9: 0 | AX9: 20516.658 | AY9: 0 | AZ9: 25193.002 | BA9: 27916.861 | BB9: 30935.223 | BC9: 104561.74 | BD9: 31091.772 | BE9: 31249.114 | BF9: 31407.252 | BG9: 31566.19 | BH9: 31725.933 | BI9: 31886.484 | BJ9: 32047.848 | BK9: 32210.028 | BL9: 32373.028 | BM9: 32536.854 | BN9: 32701.509 | BO9: 32866.997 | BP9: 383663.01 | BQ9: 34982.175 | BR9: 37233.476 | BS9: 39629.662 | BT9: 42180.055 | BU9: 44894.581 | BV9: 47783.802 | BW9: 50858.961 | BX9: 54132.024 | BY9: 57615.727 | BZ9: 61323.626 | CA9: 65270.15 | CB9: 69470.654 | CC9: 605374.9 | CD9: 72029.875 | CE9: 74683.375 | CF9: 77434.627 | CG9: 80287.232 | CH9: 83244.924 | CI9: 86311.573 | CJ9: 89491.195 | CK9: 92787.95 | CL9: 96206.154 | CM9: 99750.281 | CN9: 103424.97 | CO9: 107235.03 | CP9: 1062887.2
B10: Other Revenue | D10: 0 | E10: 0 | F10: 0 | G10: 0 | H10: 0 | I10: 0 | J10: 0 | K10: 0 | L10: 0 | M10: 0 | N10: 0 | O10: 0 | P10: 0 | Q10: 0 | R10: 0 | S10: 0 | T10: 0 | U10: 0 | V10: 0 | W10: 0 | X10: 0 | Y10: 0 | Z10: 0 | AA10: 0 | AB10: 0 | AC10: 0 | AD10: 0 | AE10: 0 | AF10: 0 | AG10: 0 | AH10: 0 | AI10: 0 | AJ10: 0 | AK10: 0 | AL10: 0 | AM10: 0 | AN10: 0 | AO10: 0 | AP10: 0 | AQ10: 0 | AR10: 0 | AS10: 0 | AT10: 0 | AU10: 0 | AV10: 0 | AW10: 0 | AX10: -83333 | AY10: 0 | AZ10: -83333.333 | BA10: -83333.333 | BB10: -2750000.3 | BC10: -3000000 | BD10: 4750000 | BE10: -250000 | BF10: -250000 | BG10: -250000 | BH10: -250000 | BI10: -250000 | BJ10: -250000 | BK10: -250000 | BL10: -250000 | BM10: -250000 | BN10: -250000 | BO10: 4750000 | BP10: 7000000 | BQ10: -395833.33 | BR10: -395833.33 | BS10: -395833.33 | BT10: -395833.33 | BU10: -395833.33 | BV10: -395833.33 | BW10: -395833.33 | BX10: -395833.33 | BY10: -395833.33 | BZ10: -395833.33 | CA10: -395833.33 | CB10: -395833.33 | CC10: -4750000 | CD10: -666666.67 | CE10: -666666.67 | CF10: -666666.67 | CG10: -666666.67 | CH10: -666666.67 | CI10: -666666.67 | CJ10: -666666.67 | CK10: -666666.67 | CL10: -666666.67 | CM10: -666666.67 | CN10: -666666.67 | CO10: -666666.67 | CP10: -8000000
B11: Total Sales Revenue | D11: 0 | E11: 0 | F11: 0 | G11: 0 | H11: 0 | I11: 0 | J11: 0 | K11: 0 | L11: 0 | M11: 0 | N11: 0 | O11: 0 | P11: 0 | Q11: 0 | R11: 0 | S11: 0 | T11: 0 | U11: 0 | V11: 0 | W11: 0 | X11: 0 | Y11: 0 | Z11: 0 | AA11: 0 | AB11: 0 | AC11: 0 | AD11: 0 | AE11: 0 | AF11: 0 | AG11: 0 | AH11: 0 | AI11: 28750 | AJ11: 28750 | AK11: 28750 | AL11: 28750 | AM11: 28750 | AN11: 53750 | AO11: 36550 | AP11: 234050 | AQ11: 0 | AR11: 0 | AS11: 0 | AT11: 0 | AU11: 0 | AV11: 0 | AW11: 0 | AX11: 250000.06 | AY11: 0 | AZ11: 568138.14 | BA11: 1009202 | BB11: -827340.23 | BC11: 1000000 | BD11: 5409922.9 | BE11: 413262.45 | BF11: 416618.93 | BG11: 419992.39 | BH11: 423382.93 | BI11: 426790.63 | BJ11: 11482216 | BK11: 5238410.8 | BL11: 437117.53 | BM11: 20340595 | BN11: 444089.53 | BO11: 5447602 | BP11: 50900000 | BQ11: 346663.32 | BR11: 394447.2 | BS11: 445306.24 | BT11: 499438.34 | BU11: 557054.16 | BV11: 33622378 | BW11: 40683648 | BX11: 753118.88 | BY11: 5827060.5 | BZ11: 20905761 | CA11: 989525.6 | CB11: 18825599 | CC11: 1.2385e+08 | CD11: 862167.44 | CE11: 918487.97 | CF11: 8976883.3 | CG11: 1037429.8 | CH11: 1100206.8 | CI11: 81545515 | CJ11: 1232783.9 | CK11: 1302757.6 | CL11: 1.3906731e+08 | CM11: 69058533 | CN11: 1528528.3 | CO11: 13669397 | CP11: 3.203e+08
B13: Cost of Sales
